BEGIN:VCALENDAR
VERSION:2.0
PRODID:São Pedro 2025
X-WR-CALNAME:São Pedro 2025
X-WR-TIMEZONE:Europe/Lisbon
X-PUBLISHED-TTL:P1W
BEGIN:VTIMEZONE
TZID:Europe/Lisbon
X-LIC-LOCATION:Europe/Lisbon
END:VTIMEZONE
BEGIN:VEVENT
UID:69e888675127f
DTSTART;VALUE=DATE:20250629
SEQUENCE:0
TRANSP:OPAQUE
DTEND;VALUE=DATE:20250630
SUMMARY:São Pedro 2025
CLASS:PUBLIC
DESCRIPTION:A Junta de Freguesia organiza e convida todos os Palhacenses pa
 ra a Comemoração do Dia de São Pedro\, Padroeiro da freguesia\, no domi
 ngo dia 29 de junho.
X-MICROSOFT-CDO-ALLDAYEVENT:TRUE
DTSTAMP:20260422T083551Z
END:VEVENT
END:VCALENDAR