BEGIN:VCALENDAR
VERSION:2.0
PRODID:Centro Social e Paroquial São Pedro da Palhaça promove \"Comunidad
 e a Mexer - Dia Mundial da Dança \"
X-WR-CALNAME:Centro Social e Paroquial São Pedro da Palhaça promove \"Com
 unidade a Mexer - Dia Mundial da Dança \"
X-WR-TIMEZONE:Europe/Lisbon
X-PUBLISHED-TTL:P1W
BEGIN:VTIMEZONE
TZID:Europe/Lisbon
X-LIC-LOCATION:Europe/Lisbon
END:VTIMEZONE
BEGIN:VEVENT
UID:69e89d81a1fd0
DTSTART;VALUE=DATE:20250429
SEQUENCE:0
TRANSP:OPAQUE
DTEND;VALUE=DATE:20250430
SUMMARY:Centro Social e Paroquial São Pedro da Palhaça promove \"Comunida
 de a Mexer - Dia Mundial da Dança \"
CLASS:PUBLIC
DESCRIPTION:O Centro Social Paroquial S. Pedro da Palhaça volta a assinala
 r o Dia Mundial da Dança com a iniciativa - Comunidade a Mexer - dia 29 d
 e abril às 17h00 no Largo da Antiga Escola Primária.&nbsp\;Adquira o seu
  KIT junto das respostas sociais ou na secretaria do Centro Social.&nbsp\;
X-MICROSOFT-CDO-ALLDAYEVENT:TRUE
DTSTAMP:20260422T100553Z
END:VEVENT
END:VCALENDAR