BEGIN:VCALENDAR
VERSION:2.0
PRODID:Baile da Fonte 2025
X-WR-CALNAME:Baile da Fonte 2025
X-WR-TIMEZONE:Europe/Lisbon
X-PUBLISHED-TTL:P1W
BEGIN:VTIMEZONE
TZID:Europe/Lisbon
X-LIC-LOCATION:Europe/Lisbon
END:VTIMEZONE
BEGIN:VEVENT
UID:69eb286597f13
DTSTART;VALUE=DATE:20250928
SEQUENCE:0
TRANSP:OPAQUE
DTEND;VALUE=DATE:20250929
SUMMARY:Baile da Fonte 2025
CLASS:PUBLIC
DESCRIPTION:Dia dia 28 Setembro tem lugar o tradicional Baile da Fonte de V
 ila Nova\, ums&nbsp\;organização do Grupo Folclórico São Pedro da Palh
 aça\, que conta com a actuação do grande Amadeu Mota.No local haverá b
 ar permanente com bebidas e bifanas.Participem!
X-MICROSOFT-CDO-ALLDAYEVENT:TRUE
DTSTAMP:20260424T082301Z
END:VEVENT
END:VCALENDAR