BEGIN:VCALENDAR
VERSION:2.0
PRODID:Matança do Porco pelo Grupo Folclórico São Pedro da Palhaça
X-WR-CALNAME:Matança do Porco pelo Grupo Folclórico São Pedro da Palhaç
 a
X-WR-TIMEZONE:Europe/Lisbon
X-PUBLISHED-TTL:P1W
BEGIN:VTIMEZONE
TZID:Europe/Lisbon
X-LIC-LOCATION:Europe/Lisbon
END:VTIMEZONE
BEGIN:VEVENT
UID:69e88b0c1dcac
DTSTART;VALUE=DATE:20250323
SEQUENCE:0
TRANSP:OPAQUE
DTEND;VALUE=DATE:20250324
SUMMARY:Matança do Porco pelo Grupo Folclórico São Pedro da Palhaça
CLASS:PUBLIC
DESCRIPTION:No próximo dia 6 de abril - domingo -&nbsp\; o&nbsp\;Grupo Fol
 clórico São Pedro da Palhaça volta a cumprir a tradição da Matança d
 o Porco.&nbsp\; A iniciativa tem lugar no Largo das Escolas\, proporcionan
 do os habituais pratos típicos e animação no espaço ao longo do dia.
X-MICROSOFT-CDO-ALLDAYEVENT:TRUE
DTSTAMP:20260422T084708Z
END:VEVENT
END:VCALENDAR