BEGIN:VCALENDAR
VERSION:2.0
PRODID:Marchas Populares Palhaça 2025 
X-WR-CALNAME:Marchas Populares Palhaça 2025 
X-WR-TIMEZONE:Europe/Lisbon
X-PUBLISHED-TTL:P1W
BEGIN:VTIMEZONE
TZID:Europe/Lisbon
X-LIC-LOCATION:Europe/Lisbon
END:VTIMEZONE
BEGIN:VEVENT
UID:69e8a3a548dfe
DTSTART;VALUE=DATE:20250621
SEQUENCE:0
TRANSP:OPAQUE
DTEND;VALUE=DATE:20250622
SUMMARY:Marchas Populares Palhaça 2025 
CLASS:PUBLIC
DESCRIPTION:As Marchas Populares tem encontro marcado para as 21h00\, dia 2
 1 de Junho (Sábado). O desfile tem início no Areeiro\, e de seguida atua
 ção nas instalações da ADREP.
X-MICROSOFT-CDO-ALLDAYEVENT:TRUE
DTSTAMP:20260422T103205Z
END:VEVENT
END:VCALENDAR