BEGIN:VCALENDAR
VERSION:2.0
PRODID:Dia da Comunidade Paroquial - Paróquia de São Pedro da Palhaça
X-WR-CALNAME:Dia da Comunidade Paroquial - Paróquia de São Pedro da Palha
 ça
X-WR-TIMEZONE:Europe/Lisbon
X-PUBLISHED-TTL:P1W
BEGIN:VTIMEZONE
TZID:Europe/Lisbon
X-LIC-LOCATION:Europe/Lisbon
END:VTIMEZONE
BEGIN:VEVENT
UID:69e67216e917d
DTSTART;VALUE=DATE:20250615
SEQUENCE:0
TRANSP:OPAQUE
DTEND;VALUE=DATE:20250616
SUMMARY:Dia da Comunidade Paroquial - Paróquia de São Pedro da Palhaça
CLASS:PUBLIC
DESCRIPTION:O Dia da Comunidade Paroquial continua a ser um convite para to
 dos os Palhacenses se reunirem no campo de formação Padre Horácio Cura 
 para celebrar a eucaristia\, refeição ao ar livre em modo de piquenique 
 e uma tarde de convívio pelo campo.
X-MICROSOFT-CDO-ALLDAYEVENT:TRUE
DTSTAMP:20260420T183606Z
END:VEVENT
END:VCALENDAR