BEGIN:VCALENDAR
VERSION:2.0
PRODID:4º Encontro de Folclore do Concelho de Oliveira do Bairro
X-WR-CALNAME:4º Encontro de Folclore do Concelho de Oliveira do Bairro
X-WR-TIMEZONE:Europe/Lisbon
X-PUBLISHED-TTL:P1W
BEGIN:VTIMEZONE
TZID:Europe/Lisbon
X-LIC-LOCATION:Europe/Lisbon
END:VTIMEZONE
BEGIN:VEVENT
UID:69e888c90c121
DTSTART;VALUE=DATE:20250914
SEQUENCE:0
TRANSP:OPAQUE
DTEND;VALUE=DATE:20250915
SUMMARY:4º Encontro de Folclore do Concelho de Oliveira do Bairro
CLASS:PUBLIC
DESCRIPTION:4° encontro de Folclore no largo das antigas escolas primarias
  pelas 16h00. Haverá bar permanente. 
X-MICROSOFT-CDO-ALLDAYEVENT:TRUE
DTSTAMP:20260422T083729Z
END:VEVENT
END:VCALENDAR