BEGIN:VCALENDAR
VERSION:2.0
PRODID:Auto e Cortejo dos Reis Magos 2026
X-WR-CALNAME:Auto e Cortejo dos Reis Magos 2026
X-WR-TIMEZONE:Europe/Lisbon
X-PUBLISHED-TTL:P1W
BEGIN:VTIMEZONE
TZID:Europe/Lisbon
X-LIC-LOCATION:Europe/Lisbon
END:VTIMEZONE
BEGIN:VEVENT
UID:69e73e0eb25f4
DTSTART;VALUE=DATE:20260111
SEQUENCE:0
TRANSP:OPAQUE
DTEND;VALUE=DATE:20260112
SUMMARY:Auto e Cortejo dos Reis Magos 2026
CLASS:PUBLIC
DESCRIPTION:No próximo domingo\, 11 de janeiro\,  a Palhaça volta a ser 
 palco do Auto e Cortejo dos Reis Magos.A organização\, da responsabilida
 de da ADREP e da Paróquia da Palhaça\, desafiou todos os lugares a um
 a participação mais ativa e evocativa\, para engrandecer o cortejo e o l
 eilão de ofertas\, preparando também um espaço de comes e bebes e anima
 ção musical\, no Largo da Antiga Escola.Programa09h00 - eucaristia na Ig
 reja Matriz10h00 - encontro dos Reis Magos\, Dança do Rei David e dos Pas
 torinhos  (rotunda do Areeiro) cortejo em desfile de todos os participant
 es e oferendas até à Praça de São Pedro11h00 - encontro com Rei Herode
 s (Praça de São Pedro) e Dança do Rei David e dos Pastorinhos12h00 - ad
 oração ao Menino Jesus\, leilão de ofertas e animação musical
X-MICROSOFT-CDO-ALLDAYEVENT:TRUE
DTSTAMP:20260421T090622Z
END:VEVENT
END:VCALENDAR