BEGIN:VCALENDAR
VERSION:2.0
PRODID:Baile Solidário no Clube Belas Artes – Bailes e Variedades  dia 1
 0 de junho
X-WR-CALNAME:Baile Solidário no Clube Belas Artes – Bailes e Variedades 
  dia 10 de junho
X-WR-TIMEZONE:Europe/Lisbon
X-PUBLISHED-TTL:P1W
BEGIN:VTIMEZONE
TZID:Europe/Lisbon
X-LIC-LOCATION:Europe/Lisbon
END:VTIMEZONE
BEGIN:VEVENT
UID:69e88868f1ed4
DTSTART;VALUE=DATE:20250610
SEQUENCE:0
TRANSP:OPAQUE
DTEND;VALUE=DATE:20250611
SUMMARY:Baile Solidário no Clube Belas Artes – Bailes e Variedades  dia 
 10 de junho
CLASS:PUBLIC
DESCRIPTION:O Núcleo Regional do Centro da Liga Portuguesa Contra o Cancro
 \, através do Grupo de Voluntariado Comunitário (GVC) de Oliveira do Bai
 rro da LPCC\, organiza um Baile Solidário no Clube Belas Artes – Bailes
  e Variedades. O espetáculo\, que terá lugar a 10 de junho\, a partir da
 s 15h00\, terá um valor de inscrição de 12€ por adulto e 6€ para me
 nores dos 10 aos 14 anos (inclusive). A iniciativa contará com música ao
  vivo e a entrega de um cartão que dá direito a sandes de febras\, bebid
 a (água\, sumo ou vinho)\, sopa\, sobremesa e fruta.+info e inscrições&
 nbsp\; junto dos voluntários comunitários da LPCC: 919276836 | 917559701
  | 963335429.&nbsp\;
X-MICROSOFT-CDO-ALLDAYEVENT:TRUE
DTSTAMP:20260422T083552Z
END:VEVENT
END:VCALENDAR