BEGIN:VCALENDAR
VERSION:2.0
PRODID:Rota das Fontes - 2025
X-WR-CALNAME:Rota das Fontes - 2025
X-WR-TIMEZONE:Europe/Lisbon
X-PUBLISHED-TTL:P1W
BEGIN:VTIMEZONE
TZID:Europe/Lisbon
X-LIC-LOCATION:Europe/Lisbon
END:VTIMEZONE
BEGIN:VEVENT
UID:69e88863f0b49
DTSTART;VALUE=DATE:20250610
SEQUENCE:0
TRANSP:OPAQUE
DTEND;VALUE=DATE:20250611
SUMMARY:Rota das Fontes - 2025
CLASS:PUBLIC
DESCRIPTION:A Junta de Freguesia da Palhaça em parceria com a ADREP organi
 zam mais uma edição da Rota das Fontes no dia 10 de junho.
X-MICROSOFT-CDO-ALLDAYEVENT:TRUE
DTSTAMP:20260422T083547Z
END:VEVENT
END:VCALENDAR