BEGIN:VCALENDAR
VERSION:2.0
PRODID:Magusto do Grupo Folclórico S. Pedro da Palhaça
X-WR-CALNAME:Magusto do Grupo Folclórico S. Pedro da Palhaça
X-WR-TIMEZONE:Europe/Lisbon
X-PUBLISHED-TTL:P1W
BEGIN:VTIMEZONE
TZID:Europe/Lisbon
X-LIC-LOCATION:Europe/Lisbon
END:VTIMEZONE
BEGIN:VEVENT
UID:69e73e1043d7a
DTSTART;VALUE=DATE:20251108
SEQUENCE:0
TRANSP:OPAQUE
DTEND;VALUE=DATE:20251109
SUMMARY:Magusto do Grupo Folclórico S. Pedro da Palhaça
CLASS:PUBLIC
DESCRIPTION:Tradicional Magusto\, dinamizado pelo Grupo Folclórico da Palh
 aça\, promete uma noite de convívio e muita animação!
X-MICROSOFT-CDO-ALLDAYEVENT:TRUE
DTSTAMP:20260421T090624Z
END:VEVENT
END:VCALENDAR