BEGIN:VCALENDAR
VERSION:2.0
PRODID:Comemoração Dia da Mulher da Comissão de Festas
X-WR-CALNAME:Comemoração Dia da Mulher da Comissão de Festas
X-WR-TIMEZONE:Europe/Lisbon
X-PUBLISHED-TTL:P1W
BEGIN:VTIMEZONE
TZID:Europe/Lisbon
X-LIC-LOCATION:Europe/Lisbon
END:VTIMEZONE
BEGIN:VEVENT
UID:69e89d6cb41ec
DTSTART;VALUE=DATE:20250308
SEQUENCE:0
TRANSP:OPAQUE
DTEND;VALUE=DATE:20250309
SUMMARY:Comemoração Dia da Mulher da Comissão de Festas
CLASS:PUBLIC
DESCRIPTION:No Dia da Mulher a Comissão de Festas da Palhaça&nbsp\; quer 
 celebrar a força e a beleza que cada uma carrega.&nbsp\; Reservas com ele
 mentos da Comissão de Festas.
X-MICROSOFT-CDO-ALLDAYEVENT:TRUE
DTSTAMP:20260422T100532Z
END:VEVENT
END:VCALENDAR