BEGIN:VCALENDAR
VERSION:2.0
PRODID:35 anos de história\, união e valores
X-WR-CALNAME:35 anos de história\, união e valores
X-WR-TIMEZONE:Europe/Lisbon
X-PUBLISHED-TTL:P1W
BEGIN:VTIMEZONE
TZID:Europe/Lisbon
X-LIC-LOCATION:Europe/Lisbon
END:VTIMEZONE
BEGIN:VEVENT
UID:69e7720a2f0cf
DTSTART;VALUE=DATE:20260206
SEQUENCE:0
TRANSP:OPAQUE
DTEND;VALUE=DATE:20260207
SUMMARY:35 anos de história\, união e valores
CLASS:PUBLIC
DESCRIPTION:No próximo dia 7 de fevereiro\, às 20h\, o Agrupamento de Esc
 uteiros  970  da Palhaça celebra 35 anos de caminhada marcada pelo servi
 ço\, pela amizade e pelo crescimento de gerações inteiras\, e queremos 
 celebrar partilhando sorrisos\, memórias e momentos que ficam para sempre
  no coração.Convidamos-te a fazer parte da nossa Noite de Fados\, uma no
 ite especial onde a música\, a amizade e o verdadeiro espírito escutista
 \, que nos acompanha há 35 anos\, se encontram.Não é apenas uma celebra
 ção… é um encontro de gerações\, de histórias vividas e de sonhos 
 que continuam a ganhar vida.Se alguma vez foste escuteiro\, se tens um car
 inho especial pelo agrupamento\, ou simplesmente se queres viver uma noite
  diferente\, cheia de magia e significado… este convite é para ti.Para 
 adquirires os teus bilhetes\, podes contactar os chefes de escuteiros ou q
 ualquer escuteiro do Agrupamento 970 que conheças.Será um enorme prazer 
 receber-te e partilhar contigo esta noite tão especial.35 anos fazem-se d
 e pessoas\, de histórias e de momentos vividos juntos. Vem celebrar conno
 sco.
X-MICROSOFT-CDO-ALLDAYEVENT:TRUE
DTSTAMP:20260421T124810Z
END:VEVENT
END:VCALENDAR