BEGIN:VCALENDAR
VERSION:2.0
PRODID:Atendimento Presencial - Grupo Cáritas Paroquial de S. Pedro da Pal
 haça
X-WR-CALNAME:Atendimento Presencial - Grupo Cáritas Paroquial de S. Pedro 
 da Palhaça
X-WR-TIMEZONE:Europe/Lisbon
X-PUBLISHED-TTL:P1W
BEGIN:VTIMEZONE
TZID:Europe/Lisbon
X-LIC-LOCATION:Europe/Lisbon
END:VTIMEZONE
BEGIN:VEVENT
UID:69eb31f84bc99
DTSTART;VALUE=DATE:20250202
SEQUENCE:0
TRANSP:OPAQUE
DTEND;VALUE=DATE:20250203
SUMMARY:Atendimento Presencial - Grupo Cáritas Paroquial de S. Pedro da Pa
 lhaça
CLASS:PUBLIC
DESCRIPTION:O Grupo Cáritas da Palhaça está disponível\, mensalmente\, 
 no 1º domingo do mês\, entre as 10h00 e as 11h00\, para&nbsp\; identific
 ar necessidades\, esclarecer dúvidas e partilhar ideias\, no centro paroq
 uial.
X-MICROSOFT-CDO-ALLDAYEVENT:TRUE
DTSTAMP:20260424T090352Z
END:VEVENT
END:VCALENDAR